BEGIN:VCALENDAR
VERSION:2.0
PRODID:-//hacksw/handcal//NONSGML v1.0//EN
CALSCALE:GREGORIAN
BEGIN:VEVENT
SUMMARY:Against The Current
UID:4d26e8b7020df4390d3d320d2d2a5803
DTSTART:20261121T200000
DTEND:20261122T000000
DTSTAMP:20261121T200000
LOCATION:Schlachthof Wiesbaden
URL:https://schlachthof-wiesbaden.de/events/against-the-current-105709
END:VEVENT
END:VCALENDAR