BEGIN:VCALENDAR
VERSION:2.0
PRODID:-//hacksw/handcal//NONSGML v1.0//EN
CALSCALE:GREGORIAN
BEGIN:VEVENT
SUMMARY:Currents / Erra / Caskets / Aviana
UID:2effc5b8fc5588d450fa620b32dac0ef
DTSTART:20261119T183000
DTEND:20261120T000000
DTSTAMP:20261119T183000
LOCATION:Schlachthof Wiesbaden
URL:https://schlachthof-wiesbaden.de/events/currents-erra-caskets-aviana-105675
END:VEVENT
END:VCALENDAR