BEGIN:VCALENDAR
VERSION:2.0
PRODID:-//hacksw/handcal//NONSGML v1.0//EN
CALSCALE:GREGORIAN
BEGIN:VEVENT
SUMMARY:Currents + Erra / Special Guests: Caskets / Aviana
UID:8b167b5e0292ea6683584ae061f61fe7
DTSTART:20261119T183000
DTEND:20261120T000000
DTSTAMP:20261119T183000
LOCATION:Schlachthof Wiesbaden
URL:https://schlachthof-wiesbaden.de/events/currents-erra-special-guests-caskets-aviana-105675
END:VEVENT
END:VCALENDAR