BEGIN:VCALENDAR
VERSION:2.0
PRODID:-//hacksw/handcal//NONSGML v1.0//EN
CALSCALE:GREGORIAN
BEGIN:VEVENT
SUMMARY:Dominik Eulberg - "Prachtliebe & Wunderfakten"
UID:aebe427d56edf0aa22c69165aeca2022
DTSTART:20270418T200000
DTEND:20270419T000000
DTSTAMP:20270418T200000
LOCATION:Schlachthof Wiesbaden
URL:https://schlachthof-wiesbaden.de/events/dominik-eulberg-2027
END:VEVENT
END:VCALENDAR