BEGIN:VCALENDAR
VERSION:2.0
PRODID:-//hacksw/handcal//NONSGML v1.0//EN
CALSCALE:GREGORIAN
BEGIN:VEVENT
SUMMARY:Erra / Currents / Caskets / Aviana
UID:94a63999457c645a369c5f650d243ce9
DTSTART:20261119T183000
DTEND:20261120T000000
DTSTAMP:20261119T183000
LOCATION:Schlachthof Wiesbaden
URL:https://schlachthof-wiesbaden.de/events/erra-currents-caskets-aviana-105675
END:VEVENT
END:VCALENDAR