BEGIN:VCALENDAR
VERSION:2.0
PRODID:-//hacksw/handcal//NONSGML v1.0//EN
CALSCALE:GREGORIAN
BEGIN:VEVENT
SUMMARY:Haller & Band
UID:826aef02d7606b0d7777563bc7949b99
DTSTART:20261203T200000
DTEND:20261204T000000
DTSTAMP:20261203T200000
LOCATION:Schlachthof Wiesbaden
URL:https://schlachthof-wiesbaden.de/events/haller-2026
END:VEVENT
END:VCALENDAR