BEGIN:VCALENDAR
VERSION:2.0
PRODID:-//hacksw/handcal//NONSGML v1.0//EN
CALSCALE:GREGORIAN
BEGIN:VEVENT
SUMMARY:Powerpoint Karaoke
UID:d6f2d00ddd8f5494db401e147b2c3697
DTSTART:20261020T193000
DTEND:20261021T000000
DTSTAMP:20261020T193000
LOCATION:Schlachthof Wiesbaden
URL:https://schlachthof-wiesbaden.de/events/powerpoint-karaoke-10-2026
END:VEVENT
END:VCALENDAR