BEGIN:VCALENDAR
VERSION:2.0
PRODID:-//hacksw/handcal//NONSGML v1.0//EN
CALSCALE:GREGORIAN
BEGIN:VEVENT
SUMMARY:Pride Party 2026
UID:da7b09bcdf0c23bc5c53ef4f387fecea
DTSTART:20260530T220000
DTEND:20260531T050000
DTSTAMP:20260530T220000
LOCATION:Schlachthof Wiesbaden
URL:https://schlachthof-wiesbaden.de/events/pride-party-2026
END:VEVENT
END:VCALENDAR